BEGIN:VCALENDAR
VERSION:2.0
PRODID:icalendar-ruby
CALSCALE:GREGORIAN
BEGIN:VEVENT
DTSTAMP:20210223T205652Z
UID:86c9f17b-9c35-451d-80e7-707506f73913
DTSTART;VALUE=DATE:20201014
DESCRIPTION:Property ID# 489532\, Time: 4:00PM
SUMMARY:Auction for 
END:VEVENT
END:VCALENDAR
