BEGIN:VCALENDAR
VERSION:2.0
PRODID:icalendar-ruby
CALSCALE:GREGORIAN
BEGIN:VEVENT
DTSTAMP:20210223T205648Z
UID:fc73d153-be65-4c04-8cec-82d9fe6c3ac8
DTSTART;VALUE=DATE:20201015
DESCRIPTION:Property ID# 490186\, Locatoin: Omaha- Unless Sold Prior\, Time
 : 4:00PM
SUMMARY:Auction for 
END:VEVENT
END:VCALENDAR
