BEGIN:VCALENDAR
VERSION:2.0
PRODID:icalendar-ruby
CALSCALE:GREGORIAN
BEGIN:VEVENT
DTSTAMP:20210223T205646Z
UID:f4735187-9b9c-4df5-8d23-f37752f33d91
DTSTART;VALUE=DATE:20201104
DESCRIPTION:Property ID# 493138\, Time: 12:00PM
SUMMARY:Auction for 
END:VEVENT
END:VCALENDAR
