BEGIN:VCALENDAR
VERSION:2.0
PRODID:icalendar-ruby
CALSCALE:GREGORIAN
BEGIN:VEVENT
DTSTAMP:20210223T205642Z
UID:ec71bf9a-36f7-40e9-a627-5de8bbe96829
DTSTART;VALUE=DATE:20201212
DESCRIPTION:Property ID# 495606\, Time: 4:30PM
SUMMARY:Auction for 
END:VEVENT
END:VCALENDAR
