BEGIN:VCALENDAR
VERSION:2.0
PRODID:icalendar-ruby
CALSCALE:GREGORIAN
BEGIN:VEVENT
DTSTAMP:20210223T205638Z
UID:ed5fc804-f3c8-4903-a13c-abee9c010439
DTSTART;VALUE=DATE:20210227
DESCRIPTION:Property ID# 500753\, Locatoin: On Site Unless Sold Prior\, Tim
 e: 4:15PM
SUMMARY:Auction for 
END:VEVENT
END:VCALENDAR
