BEGIN:VCALENDAR
VERSION:2.0
PRODID:icalendar-ruby
CALSCALE:GREGORIAN
BEGIN:VEVENT
DTSTAMP:20210223T205330Z
UID:5882315a-37da-4604-8759-064cbd437467
DTSTART;VALUE=DATE:20210307
DESCRIPTION:Property ID# 502123\, Locatoin: On Site Unless Sold Prior\, Tim
 e: 10:30AM
SUMMARY:Auction for 23 Rita Way
END:VEVENT
END:VCALENDAR
