BEGIN:VCALENDAR
VERSION:2.0
PRODID:icalendar-ruby
CALSCALE:GREGORIAN
BEGIN:VEVENT
DTSTAMP:20210223T205323Z
UID:e7ce7fea-aa9f-4bd0-9546-98257190fd85
DTSTART;VALUE=DATE:20210306
DESCRIPTION:Property ID# 502124\, Locatoin: On Site Unless Sold Prior\, Tim
 e: 5:00PM
SUMMARY:Auction for 31  Kokopu Street
END:VEVENT
END:VCALENDAR
