BEGIN:VCALENDAR
VERSION:2.0
PRODID:icalendar-ruby
CALSCALE:GREGORIAN
BEGIN:VEVENT
DTSTAMP:20210223T205319Z
UID:1d6daf5b-54e7-45ef-aef1-6779f8997ceb
DTSTART;TZID=Pacific/Auckland:20210227T120000
DTEND;TZID=Pacific/Auckland:20210227T124500
DESCRIPTION:Property ID# 502124
SUMMARY:Openhome for 31  Kokopu Street
END:VEVENT
END:VCALENDAR
