BEGIN:VCALENDAR
VERSION:2.0
PRODID:icalendar-ruby
CALSCALE:GREGORIAN
BEGIN:VEVENT
DTSTAMP:20210223T205327Z
UID:dd399a5e-de7f-4d83-9b63-2049f5c0901f
DTSTART;TZID=Pacific/Auckland:20210227T140000
DTEND;TZID=Pacific/Auckland:20210227T144500
DESCRIPTION:Property ID# 502123
SUMMARY:Openhome for 23 Rita Way
END:VEVENT
END:VCALENDAR
