BEGIN:VCALENDAR
VERSION:2.0
PRODID:icalendar-ruby
CALSCALE:GREGORIAN
BEGIN:VEVENT
DTSTAMP:20210223T205300Z
UID:8878a013-bd49-4cc0-bcb1-b45ad1d62346
DTSTART;TZID=Pacific/Auckland:20210227T130000
DTEND;TZID=Pacific/Auckland:20210227T134500
DESCRIPTION:Property ID# 497731
SUMMARY:Openhome for 279 Mangatawhiri Road
END:VEVENT
END:VCALENDAR
